BEGIN:VCALENDAR
VERSION:2.0
PRODID:-//eventon.com NONSGML v1.0//EN
BEGIN:VEVENT
UID:69e5ed4bca3fd
DTSTAMP:20260420T090931
DTSTART:20200616T210000Z
DTEND:20200616T230000Z
LOCATION:Hótel Valaskjálf Skógarlöndum 3
SUMMARY:Trúbbakvöld
DESCRIPTION: Trúbbakvöld í Valaskjálf
END:VEVENT
END:VCALENDAR